BEGIN:VCALENDAR
VERSION:2.0
PRODID:-//wp-events-plugin.com//7.2.3.1//EN
TZID:Europe/Berlin
X-WR-TIMEZONE:Europe/Berlin
BEGIN:VEVENT
UID:70630@flohmarkt-termine.org
DTSTART;TZID=Europe/Berlin:20240309T100000
DTEND;TZID=Europe/Berlin:20240309T120000
DTSTAMP:20240225T101203Z
URL:https://www.flohmarkt-termine.org/events/kindersachenflohmarkt-im-evan
 gelischen-gemeindehaus-in-wiesloch/
SUMMARY:Kindersachenflohmarkt im evangelischen Gemeindehaus in Wiesloch
DESCRIPTION:Der Kindersachenflohmarkt im evangelischen Gemeindehaus in Wie
 sloch findet am Samstag von 10:00 bis 12:00 Uhr statt.\n\n\nWeitere Flohma
 rkt Termine in Wiesloch und der Umgebung\nFlohmärkte in Wiesloch\nInforma
 tionen zu dem Kindersachenflohmarkt im evangelischen Gemeindehaus in Wiesl
 och\nDer Kindersachenflohmarkt im evangelischen Gemeindehaus in Wiesloch 
 findet am Samstag von 10:00 bis 12:00 Uhr statt.\n\nAm 09. März 2024 öff
 net das evangelische Gemeindehaus in Wiesloch\, Friedrichstraße 5\, seine
  Türen für den Kindersachenflohmarkt der Evangelischen Kindertagesstätt
 e Abenteuerland. In der Zeit von 10:00 bis 12:00 Uhr bietet dieser Flohmar
 kt eine hervorragende Gelegenheit\, gut erhaltene Kindersachen zu kaufen o
 der zu verkaufen. Interessierte Verkäufer können ab 9:00 Uhr mit dem Auf
 bau beginnen und erhalten einen Tisch gestellt. Um einen Stand zu reservie
 ren\, ist eine Anmeldung erforderlich. Diese kann einfach per E-Mail an Fl
 ohmarkt.Abenteuerland@gmail.com erfolgen. Die Standgebühr beträgt 10€.
  Alternativ können Verkäufer 8€ zahlen\, wenn sie zusätzlich einen Ku
 chen beisteuern\, wobei Sahnetorten nicht akzeptiert werden.\n\nFür Besuc
 her und Teilnehmer wird zudem für das leibliche Wohl gesorgt. Kaffee und 
 Kuchen stehen bereit\, um den Einkaufsbummel oder Verkauf angenehm zu gest
 alten. Diese Veranstaltung bietet nicht nur die Möglichkeit\, Schnäppche
 n rund um Kindersachen zu machen\, sondern unterstützt auch die Arbeit de
 r Kindertagesstätte Abenteuerland. Durch die Teilnahme an diesem Flohmark
 t tragen Sie direkt zum Erfolg der Veranstaltung bei und fördern die Ange
 bote der Kindertagesstätte.\nFlohmarkt Termine 2026\nSamstag\, 9. März 2
 024 von 10:00 bis 12:00 Uhr\nVeranstalter\nKindertagesstätte Abenteuerlan
 d\nBannholzweg 41\n69168 Wiesloch\n\nFlohmarkt.Abenteuerland@gmail.com\nab
 enteuerland@ekiwiesloch.de\n06222 4118
ATTACH;FMTTYPE=image/jpeg:https://www.flohmarkt-termine.org/fotos/Kindersa
 chenbasar.jpg
CATEGORIES:Babybasar,Babyflohmarkt,Basar,Flohmarkt,Kinderbasar ,Kinderbek
 leidungsbasar,Kinderflohmarkt,Kinderkleidermarkt,Kindersachenbasar,Kinders
 achenflohmarkt,Kindertrödel
LOCATION:Evangelisches Gemeindehaus F5 in Wiesloch\,  Friedrichstraße 5 \,
  Wiesloch\, Baden-Württemberg\, 69168 \, Rhein-Neckar-Kreis\, Deutschland
X-APPLE-STRUCTURED-LOCATION;VALUE=URI;X-ADDRESS= Friedrichstraße 5 \, Wies
 loch\, Baden-Württemberg\, 69168 \, Rhein-Neckar-Kreis\, Deutschland;X-AP
 PLE-RADIUS=100;X-TITLE=Evangelisches Gemeindehaus F5 in Wiesloch:geo:0,0
END:VEVENT
BEGIN:VTIMEZONE
TZID:Europe/Berlin
X-LIC-LOCATION:Europe/Berlin
BEGIN:STANDARD
DTSTART:20231029T020000
TZOFFSETFROM:+0200
TZOFFSETTO:+0100
TZNAME:CET
END:STANDARD
END:VTIMEZONE
END:VCALENDAR