BEGIN:VCALENDAR
VERSION:2.0
PRODID:-//wp-events-plugin.com//7.2.3.1//EN
TZID:Europe/Berlin
X-WR-TIMEZONE:Europe/Berlin
BEGIN:VEVENT
UID:72303@flohmarkt-termine.org
DTSTART;TZID=Europe/Berlin:20240309T140000
DTEND;TZID=Europe/Berlin:20240309T160000
DTSTAMP:20240306T154317Z
URL:https://www.flohmarkt-termine.org/events/kleider-und-spielzeugbasar-in
 -der-weilerhauhalle-in-filderstadt/
SUMMARY:Kleider- und Spielzeugbasar in der Weilerhauhalle in Filderstadt
DESCRIPTION:Der Kleider- und Spielzeugbasar in der Weilerhauhalle in Filde
 rstadt findet am Samstag von 14:00 bis 16:00 Uhr statt.\n\n[caption id="at
 tachment_209995" align="alignnone" width="840"] Kleider- und Spielzeugbasa
 r in der Weilerhauhalle in Filderstadt[/caption]\nWeitere Flohmarkt Termin
 e in Filderstadt und Umgebung\nFlohmärkte in Filderstadt\n\nInformationen
  zu dem Kleider- und Spielzeugbasar in der Weilerhauhalle in Filderstadt\n
 Der Kleider- und Spielzeugbasar in der Weilerhauhalle in Filderstadt find
 et am Samstag von 14:00 bis 16:00 Uhr statt.\n\nAm Samstag\, den 9. März 
 2024\, öffnet die Weilerhauhalle in Filderstadt Plattenhardt ihre Türen 
 für den jährlichen Kleider- und Spielzeugbasar. Organisiert vom Förderv
 erein der Kindergartenkinder am Weilerhau e. V.\, bietet diese Veranstaltu
 ng von 14:00 bis 16:00 Uhr die perfekte Gelegenheit\, nach hochwertiger Ki
 nderkleidung und einer Vielzahl an Spielzeugen zu stöbern. Schwangeren ge
 währt der Basar bereits ab 13:30 Uhr Zutritt\, sodass sie in aller Ruhe a
 uswählen können. Der Eintritt ist für alle Besucher kostenlos\, was ein
 en zusätzlichen Anreiz bietet\, diesen lokalen Markt zu unterstützen.\n\
 nDie Vielfalt der angebotenen Waren reicht von Puzzles und Büchern bis hi
 n zu Spielen und vielem mehr. Die Stände sind sorgfältig von den Veranst
 altern ausgewählt\, um eine breite Palette an Artikeln für jedes Alter u
 nd jeden Geschmack zu bieten. Damit nicht genug\, sorgt der Kindergarten a
 m Weilerhau für das leibliche Wohl der Besucher mit einer Auswahl an Kaff
 ee\, Getränken\, Kuchen und frisch gebackenen Waffeln. Dies rundet das Ei
 nkaufserlebnis mit einer gemütlichen Pause ab.\n\nInteressierte Verkäufe
 r können sich noch bis zum 6. März 2024 für einen Stand anmelden. Die T
 ischmiete beträgt 12 EUR\, was eine großartige Möglichkeit darstellt\, 
 ausgemusterte Schätze neuen Familien zugänglich zu machen. Anmeldungen w
 erden unter kleiderbasar-weilerhau@gmx.de entgegengenommen. Der Förderver
 ein der Kindergartenkinder am Weilerhau e. V. lädt die Gemeinschaft herzl
 ich ein\, diesen Tag gemeinsam zu verbringen und dabei sowohl Schnäppchen
  zu jagen als auch die Arbeit des Vereins zu unterstützen.\nFlohmarkt Ter
 mine 2026\nSamstag\, 9. März 2024 von 14:00 bis 16:00 Uhr\nVeranstalter\n
 Förderverein der Kindergartenkinder am Weilerhau e. V.\nWeilerhauhalle\nW
 eilerhau\n70794 Filderstadt
ATTACH;FMTTYPE=image/jpeg:https://www.flohmarkt-termine.org/fotos/Kindersa
 chenflohmarkt-1.jpg
CATEGORIES:Babybasar,Babyflohmarkt,Basar,Flohmarkt,Kinderbasar ,Kinderbek
 leidungsbasar,Kinderflohmarkt,Kinderkleidermarkt,Kindersachenbasar,Kinders
 achenflohmarkt,Kindertrödel,Spielwarenflohmarkt,Spielzeugbasar
LOCATION:Weilerhauhalle in Filderstadt\, Weilerhau \, Filderstadt \, Baden-
 Württemberg\, 70794 \, Esslingen\, Deutschland
X-APPLE-STRUCTURED-LOCATION;VALUE=URI;X-ADDRESS=Weilerhau \, Filderstadt \,
  Baden-Württemberg\, 70794 \, Esslingen\, Deutschland;X-APPLE-RADIUS=100;
 X-TITLE=Weilerhauhalle in Filderstadt:geo:0,0
END:VEVENT
BEGIN:VTIMEZONE
TZID:Europe/Berlin
X-LIC-LOCATION:Europe/Berlin
BEGIN:STANDARD
DTSTART:20231029T020000
TZOFFSETFROM:+0200
TZOFFSETTO:+0100
TZNAME:CET
END:STANDARD
END:VTIMEZONE
END:VCALENDAR