BEGIN:VCALENDAR
VERSION:2.0
PRODID:-//wp-events-plugin.com//7.2.3.1//EN
TZID:Europe/Berlin
X-WR-TIMEZONE:Europe/Berlin
BEGIN:VEVENT
UID:72045@flohmarkt-termine.org
DTSTART;TZID=Europe/Berlin:20240309T103000
DTEND;TZID=Europe/Berlin:20240309T123000
DTSTAMP:20240305T145915Z
URL:https://www.flohmarkt-termine.org/events/kleider-und-spielzeugbasar-in
 -der-wildeckhalle-in-abstatt/
SUMMARY:Kleider- und Spielzeugbasar in der Wildeckhalle in Abstatt
DESCRIPTION:Der Kleider- und Spielzeugbasar in der Wildeckhalle in Abstatt
  findet am Samstag von 10:30 bis 12:20 Uhr statt.\n\n[caption id="attachme
 nt_209995" align="alignnone" width="840"] Kleider- und Spielzeugbasar in d
 er Wildeckhalle in Abstatt[/caption]\nWeitere Flohmarkt Termine in Abstatt
  und Umgebung\nFlohmärkte in Abstatt\n\nInformationen zu dem Kleider- und
  Spielzeugbasar in der Wildeckhalle in Abstatt\nDer Kleider- und Spielzeu
 gbasar in der Wildeckhalle in Abstatt findet am Samstag von 10:30 bis 12:2
 0 Uhr statt.\n\nAm Samstag\, den 9. März 2024\, lädt der Förderkreis de
 r Grundschule Abstatt e.V. zu einem besonderen Ereignis ein. Von 10:30 bis
  12:30 Uhr öffnet die Wildeckhalle in Abstatt ihre Türen für einen Tisc
 hbasar\, der sich ganz den Bedürfnissen von Kindern und ihren Familien wi
 dmet. Besucher haben die Möglichkeit\, aus einem vielfältigen Angebot vo
 n Baby- und Kinderkleidung über Schuhe bis hin zu Spielsachen aller Art z
 u wählen. Auch Bücher\, CDs\, Fahrzeuge sowie wichtige Baby- und Kindera
 usstattung wie Kinderwägen und Autositze werden zu finden sein. Der Basar
  bietet somit eine ideale Plattform\, um hochwertige und gut erhaltene Art
 ikel zu entdecken.\n\nFür den kleinen Hunger zwischendurch ist bestens ge
 sorgt. Kaffee\, selbst gebackene Kuchen\, verschiedene Getränke\, Brezeln
  und Saitenwürstchen stehen bereit\, um die Einkaufsatmosphäre abzurunde
 n und für eine angenehme Pause zu sorgen. Der Förderkreis der Grundschul
 e Abstatt e.V. legt großen Wert darauf\, dass sich alle Besucher wohl fü
 hlen und eine genussvolle Zeit verbringen können.\n\nSchwangere erhalten 
 bereits ab 10:15 Uhr Einlass und können so in aller Ruhe das Angebot vor 
 der offiziellen Öffnungszeit erkunden. Der Zugang zur Wildeckhalle ist tr
 otz eventueller Sperrungen in Abstatt über ausgeschilderte Umleitungen ge
 währleistet. Weitere Informationen zum Basar und zur Anfahrt sind auf der
  Webseite www.abstatt.de verfügbar. Der Förderkreis Grundschule Abstatt 
 e.V. freut sich auf einen erfolgreichen Tag und zahlreiche Besucher\, die 
 die Gelegenheit nutzen möchten\, in familiärer Atmosphäre nach Herzensl
 ust zu stöbern und zu shoppen.\nFlohmarkt Termine 2026\nSamstag\, 9. Mär
 z 2024 von 10:30 bis 12:30 Uhr\nVeranstalter\nFörderkreis Grundschule Abs
 tatt e.V.\nWildeckhalle Abstatt\nBeilsteiner Strasse 27\n74232 Abstatt\n\n
 www.abstatt.de
ATTACH;FMTTYPE=image/jpeg:https://www.flohmarkt-termine.org/fotos/Kindersa
 chenflohmarkt-1.jpg
CATEGORIES:Babybasar,Babyflohmarkt,Basar,Familienflohmarkt,Familientrödel
 markt,Flohmarkt,Kinderbasar ,Kinderbekleidungsbasar,Kinderflohmarkt,Kinde
 rkleidermarkt,Kindersachenbasar,Kindersachenflohmarkt,Kindertrödel,Spielw
 arenflohmarkt,Spielzeugbasar
LOCATION:Wildeckhalle in Abstatt\, Beilsteiner Strasse 27 \, Abstatt \, Bad
 en-Württemberg\, 74232 \, Heilbronn\, Deutschland
X-APPLE-STRUCTURED-LOCATION;VALUE=URI;X-ADDRESS=Beilsteiner Strasse 27 \, A
 bstatt \, Baden-Württemberg\, 74232 \, Heilbronn\, Deutschland;X-APPLE-RA
 DIUS=100;X-TITLE=Wildeckhalle in Abstatt:geo:0,0
END:VEVENT
BEGIN:VTIMEZONE
TZID:Europe/Berlin
X-LIC-LOCATION:Europe/Berlin
BEGIN:STANDARD
DTSTART:20231029T020000
TZOFFSETFROM:+0200
TZOFFSETTO:+0100
TZNAME:CET
END:STANDARD
END:VTIMEZONE
END:VCALENDAR