BEGIN:VCALENDAR
VERSION:2.0
PRODID:-//wp-events-plugin.com//7.2.3.1//EN
TZID:Europe/Berlin
X-WR-TIMEZONE:Europe/Berlin
BEGIN:VEVENT
UID:37043@flohmarkt-termine.org
DTSTART;TZID=Europe/Berlin:20351007T090000
DTEND;TZID=Europe/Berlin:20351007T160000
DTSTAMP:20210911T142622Z
URL:https://www.flohmarkt-termine.org/events/magdeburger-sonntags-flohmark
 t-auf-dem-univeristaets-campus-am-universitaetsplatz-2035-10-07/
SUMMARY:Magdeburger Sonntags-Flohmarkt auf dem Univeristäts-Campus am Univ
 ersitätsplatz
DESCRIPTION:Der Magdeburger Sonntags-Flohmarkt auf dem Univeristäts-Campus
  am Universitätsplatz findet am Sonntag von 9:00 Uhr statt.\n\n[caption i
 d="attachment_123110" align="alignnone" width="810"] Magdeburger Sonntags-
 Flohmarkt auf dem Univeristäts-Campus am Universitätsplatz[/caption]\nFl
 ohmarkt Termine 2021 auf dem Univeristäts-Campus am Universitätsplatz in
  Magdeburg\nSonntag\, 1.11. ab 9:00 Uhr\nInformationen zum Flohmarkt\nAb 9
  Uhr haben Besucherinnen und Besucher auf dem Univeristäts-Campus am Univ
 ersitätsplatz die Möglichkeit auf dem größten Flohmarkt unter freiem H
 immel in der Landeshauptstadt zu stöbern und zu feilschen. Der Markt find
 et jeweils am 1. Sonntag im Monat statt. Der Veranstalter\, die gemeinnüt
 zige Kinderschutzorganisation Familienhaus Magdeburg\, nutzt die Einnahmen
  aus den Standgeldern um anteilig soziale Projekte wie das Familienhaus im
  Park zu finanzieren.\nWeitere Flohmärkte in der Umgebung von Magdeburg\n
 Flohmärkte in Magdeburg und Umgebung\n\nFür private Händler:\nHändler*
 innen: Zufahrt für private Händler: Hohenstauffenring/Nordpark. Geparkt 
 werden kann am Stand (sofern technisch möglich) oder auf dem Uni-Campus a
 uf einer gesonderten Fläche (solange Vorrat reicht)\, welche vom Personal
  zugewiesen wird.\nBesucher*innen: Parkmöglichkeit: z. B. Parkplatz Liste
 mannstr. (sonntags i. d. R. kostenfrei!) oder entlang des Nordparks. Auf d
 em Uni-Campus ist keine Parkmöglichkeit für Besucher*innen\, da eine Par
 kerlaubnis der Universitätsverwaltung erforderlich!\nZugang für Besucher
 *innen: z. B. von der Pfälzer Str. (direkt) oder vom Universitätsplatz (
 2 min. Fußweg)\nStrassenbahn:\nLinie 2\, Haltestelle: Pfälzerstr.\nLinie
  1\, 9\,10\, Haltestelle: Universität (Fußweg 2 min.)
ATTACH;FMTTYPE=image/jpeg:https://www.flohmarkt-termine.org/fotos/Flohmark
 t-Eberstadt.jpg
CATEGORIES:Flohmarkt
LOCATION:Univeristäts-Campus am Universitätsplatz in Magdeburg\, Pfälzer
  Straße\, Magdeburg\, Sachsen-Anhalt\, 39106\, Deutschland
X-APPLE-STRUCTURED-LOCATION;VALUE=URI;X-ADDRESS=Pfälzer Straße\, Magdebur
 g\, Sachsen-Anhalt\, 39106\, Deutschland;X-APPLE-RADIUS=100;X-TITLE=Univer
 istäts-Campus am Universitätsplatz in Magdeburg:geo:0,0
END:VEVENT
BEGIN:VTIMEZONE
TZID:Europe/Berlin
X-LIC-LOCATION:Europe/Berlin
BEGIN:DAYLIGHT
DTSTART:20350325T030000
TZOFFSETFROM:+0100
TZOFFSETTO:+0200
TZNAME:CEST
END:DAYLIGHT
END:VTIMEZONE
END:VCALENDAR