BEGIN:VCALENDAR
VERSION:2.0
PRODID:-//wp-events-plugin.com//7.2.3.1//EN
TZID:Europe/Berlin
X-WR-TIMEZONE:Europe/Berlin
BEGIN:VEVENT
UID:70478@flohmarkt-termine.org
DTSTART;TZID=Europe/Berlin:20240224T143000
DTEND;TZID=Europe/Berlin:20240224T163000
DTSTAMP:20240223T080426Z
URL:https://www.flohmarkt-termine.org/events/montessori-kindersachenbasar-
 in-der-waldschule-degerloch/
SUMMARY:Montessori-Kindersachenbasar in der Waldschule Degerloch
DESCRIPTION:Der Montessori-Kindersachenbasar in der Waldschule Degerloch f
 indet am Samstag von 14:30 bis 16:30 Uhr statt.\n\n\n[caption id="attachme
 nt_202387" align="alignnone" width="810"] Montessori-Kindersachenbasar in 
 der Waldschule Degerloch[/caption]\nWeitere Flohmarkt Termine in Stuttgart
  Degerloch und Umgebung\nFlohmarkt in Stuttgart Degerloch\n\nInformationen
  zu dem Montessori-Kindersachenbasar in der Waldschule Degerloch\nDer Mon
 tessori-Kindersachenbasar in der Waldschule Degerloch findet am Samstag vo
 n 14:30 bis 16:30 Uhr statt.\n\nAm Samstag\, den 24. Februar 2024\, findet
  in der Waldschule Degerloch ein besonderes Ereignis statt. Von 14:30 bis 
 16:30 Uhr öffnet der Montessori-Kindersachenbasar seine Türen für alle 
 Interessierten. Besucher haben die Möglichkeit\, hochwertige Kindersachen
  wie Kleidung\, Spielzeug\, Bücher und Baby-Ausstattung zu erwerben. Bere
 its ab 13:30 Uhr können Gäste Kaffee und Kuchen zum Mitnehmen genießen.
  Dieses Angebot macht den Basar zu einem idealen Ziel für Familien\, die 
 nach Qualitätswaren suchen und gleichzeitig einen angenehmen Nachmittag v
 erbringen möchten.\n\nFür Verkäufer bietet der Basar verschiedene Optio
 nen zur Tischreservierung an. Interessenten können ab dem 24. Januar 2024
  einen Tisch unter kleiderbasar@montessori-stuttgart.de buchen. Die Preise
  sind dabei besonders familienfreundlich gestaltet. Reguläre Tische koste
 n für Nichtmitglieder 15 € und für Mitglieder des Montessori Kindergar
 ten e. V. Stuttgart 10 €. Kindertische\, speziell für die jüngsten Ver
 käufer gedacht\, sind für 5 € erhältlich. Die unterschiedlichen Tisch
 größen in den Verkaufsräumen und die Option\, einen L-förmigen Tisch i
 n der Turnhalle zu reservieren\, bieten Flexibilität und Raum für eine a
 nsprechende Präsentation der Waren.\n\nDie Veranstaltung wird vom Montess
 ori Kinderhaus Degerloch organisiert und spiegelt die Werte der Montessori
 -Pädagogik wider. Durch den Verkauf und Kauf von gebrauchten Artikeln fö
 rdert der Basar Nachhaltigkeit und ein bewusstes Konsumverhalten. Zusätzl
 iche Informationen sind auf www.montessori-stuttgart.de zu finden. Der Kin
 dersachenbasar ist somit nicht nur eine Einkaufsmöglichkeit\, sondern auc
 h eine Veranstaltung\, die die Gemeinschaft stärkt und Werte wie Nachhalt
 igkeit und Eigeninitiative unterstützt.\nFlohmarkt Termine 2026\nSamstag\
 , 24. Februar 2024 von 14:30 bis 16:30 Uhr\nVeranstalter\nMontessori Kinde
 rhaus Degerloch\nWaldschule Degerloch\nGeorgiiweg 1\n70597 Degerloch\n\nkl
 eiderbasar@montessori-stuttgart.de\nwww.montessori-stuttgart.de
ATTACH;FMTTYPE=image/jpeg:https://www.flohmarkt-termine.org/fotos/Flohmark
 t-00686.jpg
CATEGORIES:Flohmarkt,Kinderbasar ,Kinderbekleidungsbasar,Kindersachenbasa
 r,Kindersachenflohmarkt,Spielwarenflohmarkt,Spielzeugbasar
LOCATION:Montessori Kinderhaus Degerloch Waldschule Degerloch\, Georgiiweg 
 1 Degerloch \, Stuttgart Degerloch\, Baden-Württemberg\, 70597 \, Stuttga
 rt \, Deutschland
X-APPLE-STRUCTURED-LOCATION;VALUE=URI;X-ADDRESS=Georgiiweg 1 Degerloch \, S
 tuttgart Degerloch\, Baden-Württemberg\, 70597 \, Stuttgart \, Deutschlan
 d;X-APPLE-RADIUS=100;X-TITLE=Montessori Kinderhaus Degerloch Waldschule De
 gerloch:geo:0,0
END:VEVENT
BEGIN:VTIMEZONE
TZID:Europe/Berlin
X-LIC-LOCATION:Europe/Berlin
BEGIN:STANDARD
DTSTART:20231029T020000
TZOFFSETFROM:+0200
TZOFFSETTO:+0100
TZNAME:CET
END:STANDARD
END:VTIMEZONE
END:VCALENDAR