BEGIN:VCALENDAR
VERSION:2.0
PRODID:-//wp-events-plugin.com//7.2.3.1//EN
TZID:Europe/Berlin
X-WR-TIMEZONE:Europe/Berlin
BEGIN:VEVENT
UID:63811@flohmarkt-termine.org
DTSTART;TZID=Europe/Berlin:20230716T100000
DTEND;TZID=Europe/Berlin:20230716T160000
DTSTAMP:20230628T093834Z
URL:https://www.flohmarkt-termine.org/events/privater-garagenflohmarkt-in-
 bietigheim-bissingen-buch-2023-07-16/
SUMMARY:Privater Garagenflohmarkt in Bietigheim-Bissingen-Buch
DESCRIPTION:Der private Garagenflohmarkt in Bietigheim-Bissingen-Buch finde
 t am Samstag von 10:00 bis 16:00 Uhr und am Sonntag von 11:00 bis 16:00 Uh
 r statt.\n\n[caption id="attachment_196404" align="alignnone" width="810"]
  Privater Garagenflohmarkt in Bietigheim-Bissingen-Buch[/caption]\nWeitere
  Flohmarkt Termine in Bietigheim-Bissingen und der Umgebung\nFlohmärkte i
 n Bietigheim-Bissingen\nInformationen zu dem privaten Garagenflohmarkt in 
 Bietigheim-Bissingen-Buch\nDer private Garagenflohmarkt in Bietigheim-Biss
 ingen-Buch findet am Samstag von 10:00 bis 16:00 Uhr und am Sonntag von 11
 :00 bis 16:00 Uhr statt.\n\nPrivater Garagenflohmarkt wg. Haushaltsauflös
 ung. Möbel\, Geschirr\, Trödel\, Bücher und vieles mehr. Einfach vorbei
 schauen und Schnäppchen finden.\nFlohmarkt Termine 2023\nSamstag\, 15. Ju
 li 2023 von 10:00 bis 16:00 Uhr\nSonntag\, 16. Juli 2023 von 11:00 bis 16:
 00 Uhr\nSamstag\, 22. Juli 2023 von 10:00 bis 16:00 Uhr\nSonntag\, 23. Jul
 i 2023 von 11:00 bis 16:00 Uhr\nVeranstalter\nBritta Bezner
ATTACH;FMTTYPE=image/jpeg:https://www.flohmarkt-termine.org/fotos/Flohmark
 t-00678.jpg
CATEGORIES:Flohmarkt,Garagenflohmarkt,Garagentrödel,Privatflohmarkt
LOCATION:Bietigheim-Bissingen\, Camberley Str 41 \, Bietigheim-Bissingen\, 
 Baden-Württemberg\, 74321\, Ludwigsburg\, Deutschland
X-APPLE-STRUCTURED-LOCATION;VALUE=URI;X-ADDRESS=Camberley Str 41 \, Bietigh
 eim-Bissingen\, Baden-Württemberg\, 74321\, Ludwigsburg\, Deutschland;X-A
 PPLE-RADIUS=100;X-TITLE=Bietigheim-Bissingen:geo:0,0
END:VEVENT
BEGIN:VTIMEZONE
TZID:Europe/Berlin
X-LIC-LOCATION:Europe/Berlin
BEGIN:DAYLIGHT
DTSTART:20230326T030000
TZOFFSETFROM:+0100
TZOFFSETTO:+0200
TZNAME:CEST
END:DAYLIGHT
END:VTIMEZONE
END:VCALENDAR