BEGIN:VCALENDAR
VERSION:2.0
PRODID:-//wp-events-plugin.com//7.2.3.1//EN
TZID:Europe/Berlin
X-WR-TIMEZONE:Europe/Berlin
BEGIN:VEVENT
UID:64955@flohmarkt-termine.org
DTSTART;TZID=Europe/Berlin:20230123T110000
DTEND;TZID=Europe/Berlin:20230123T160000
DTSTAMP:20231030T075540Z
URL:https://www.flohmarkt-termine.org/events/saatguttauschboerse-im-nature
 rlebniszentrum-blumberger-muehle-in-angermuende/
SUMMARY:Saatguttauschbörse im Naturerlebniszentrum Blumberger Mühle in An
 germünde
DESCRIPTION:Die Saatguttauschbörse im Naturerlebniszentrum Blumberger Mü
 hle in Angermünde findet am Montag von 11:00 bis 16:00 Uhr statt.\n\n[cap
 tion id="attachment_200275" align="alignnone" width="810"] Saatguttauschb
 örse im Naturerlebniszentrum Blumberger Mühle in Angermünde[/caption]\n
 Weitere Flohmarkt Termine in Angermünde und der Umgebung\nFlohmärkte in 
 Angermünde\nInformationen zu der Saatguttauschbörse im Naturerlebniszent
 rum Blumberger Mühle\nDie Saatguttauschbörse im Naturerlebniszentrum Bl
 umberger Mühle in Angermünde findet am Montag von 11:00 bis 16:00 Uhr st
 att.\n\nDas Naturerlebniszentrum Blumberger Mühle ist weithin bekannt fü
 r seine zahlreichen ökologischen Initiativen und Veranstaltungen. Besonde
 res beliebt ist die Samentauschbörse. Hier haben Hobbygärtner und Garten
 freunde die Möglichkeit\, Saatgut zu tauschen und so die Artenvielfalt in
  ihren Gärten zu bereichern. Neben dem Saatguttausch können Interessiert
 e auch Saatgut des VERN e.V. erwerben. Der Verein setzt sich leidenschaftl
 ich für den Erhalt alter und gefährdeter Pflanzensorten ein. Der VERN e.
 V. gibt sogar Saatgut das nicht im regulären Handel erhältlich ist koste
 nlos an die Besucherinnen und Besucher ab.\n\nDas Naturerlebniszentrum bie
 tet zusätzlich eine Werkzeugpflegewerkstatt an. Hier können Gartenfreund
 e ihre Gartengeräte reparieren lassen und erhalten wertvolle Tipps zur ri
 chtigen Pflege. Außerdem geben Experten Informationen und Anleitungen zum
  Anbau von Gemüsepflanzen.\n\nIm Naturerlebniszentrum Blumberger Mühle w
 ird natürlich auch an die jüngsten Besucher gedacht. Für große und kle
 ine Gartenfreund*innen gibt es ein buntes Programm mit spannende Stände z
 um Raten\, Spielen und Malen. Die Samentauschbörse im Naturerlebniszentru
 m Blumberger Mühle findet von 11 bis 16 Uhr statt.\nFlohmarkt Termine 202
 3\nMontag\, 23. Januar 2023 von 11:00 bis 16:00 Uhr\nVeranstalter\nNaturer
 lebniszentrum Blumberger Mühle\n03331-26040\nBlumberger.Muehle@NABU.de\nw
 ww.blumberger-muehle.nabu.de\nWeitere Pflanzentauschbörsen und Saatgutflo
 hmärkte\nSaatguttauschbörsen und Pflanzenflohmärkte
ATTACH;FMTTYPE=image/jpeg:https://www.flohmarkt-termine.org/fotos/Pflanzen
 tauschboerse.png
CATEGORIES:Flohmarkt,Pflanzenbörse,Pflanzentauschbörse,Saatgutflohmarkt,
 Saatguttauschbörse
LOCATION:Naturerlebniszentrum Blumberger Mühle in Angermünde\, Blumberger
  Mühle 2\, Angermünde\, Brandenburg\, 16278 \, Uckermark\, Deutschland
X-APPLE-STRUCTURED-LOCATION;VALUE=URI;X-ADDRESS=Blumberger Mühle 2\, Anger
 münde\, Brandenburg\, 16278 \, Uckermark\, Deutschland;X-APPLE-RADIUS=100
 ;X-TITLE=Naturerlebniszentrum Blumberger Mühle in Angermünde:geo:0,0
END:VEVENT
BEGIN:VTIMEZONE
TZID:Europe/Berlin
X-LIC-LOCATION:Europe/Berlin
BEGIN:STANDARD
DTSTART:20221030T020000
TZOFFSETFROM:+0200
TZOFFSETTO:+0100
TZNAME:CET
END:STANDARD
END:VTIMEZONE
END:VCALENDAR