BEGIN:VCALENDAR
VERSION:2.0
PRODID:-//wp-events-plugin.com//7.2.3.1//EN
TZID:Europe/Berlin
X-WR-TIMEZONE:Europe/Berlin
BEGIN:VEVENT
UID:67130@flohmarkt-termine.org
DTSTART;TZID=Europe/Berlin:20241003T110000
DTEND;TZID=Europe/Berlin:20241003T170000
DTSTAMP:20240129T102628Z
URL:https://www.flohmarkt-termine.org/events/second-hand-und-hochzeitsfloh
 markt-lovebee-in-calw/
SUMMARY:Second-Hand- und Hochzeitsflohmarkt Lovebee in Calw
DESCRIPTION:Der Second-Hand- und Hochzeitsflohmarkt Lovebee in Calw findet
  am Sonntag von 11:00 bis 17:00 Uhr statt.\n\n[caption id="attachment_2045
 59" align="alignnone" width="840"] Second-Hand und Hochzeitsflohmarkt Brid
 albazaar in Calw[/caption]\nWeitere Flohmarkt Termine in Calw und der Umge
 bung\nFlohmärkte in Calw\nInformationen zu dem Second-Hand- und Hochzeits
 flohmarkt Bridalbazaar in Calw\nDer Second-Hand- und Hochzeitsflohmarkt B
 ridalbazaar in Calw findet am Sonntag von 11:00 bis 14:00 Uhr statt.\n\nAm
  3. November 2024 öffnet der Bridalbazaar unter dem Namen lovebee in Calw
  seine Pforten. Dieses Event\, bereits zum fünften Mal in der Gemeindehal
 le Calw-Stammheim veranstaltet\, lädt Verliebte\, Verlobte und Hochzeitsb
 egeisterte ein. Von 11 bis 17 Uhr können Besucher über 70 regionale Hoch
 zeitsprofis kennenlernen. Diese Experten bieten umfassende Einblicke in al
 le Facetten der Hochzeitsplanung. Von Dekoration bis hin zur kulinarischen
  Gestaltung findet sich hier alles für den perfekten Hochzeitstag.\n\nBes
 ucher folgen zur Anreise zur lovebee einfach der Beschilderung in Richtung
  Freibad oder Gymnasium\, um zur Gemeindehalle Calw-Stammheim zu gelangen.
  Für Komfort sorgen zahlreiche kostenlose Parkplätze. Tagestickets gibt 
 es im Vorverkauf für 9 Euro oder an der Tageskasse für 10 Euro. Für Sp
 ätankommende gibt es das Late-Ticket ab 14 Uhr\, zu Preisen von 6 Euro im
  Vorverkauf und 7 Euro an der Tageskasse. Jedes Ticket umfasst ein Glas Se
 kt und eine Goodiebag für jede Bride-To-BEE. Ein Teil des Ticketerlöses 
 wird an Terre des femmes gespendet\, was den Besuch nicht nur zu einem Erl
 ebnis\, sondern auch zu einer guten Tat macht.\n\nLovebee verspricht eine 
 vielseitige Ausstellung mit Experten aus der Hochzeitsbranche. Drei Wochen
  vor der Messe werden die Aussteller bekannt gegeben. Besucher haben die M
 öglichkeit\, direkt mit den Profis in Kontakt zu treten\, Fragen zu stell
 en und wertvolle Tipps zu erhalten. Kinder unter 16 Jahren genießen freie
 n Eintritt\, was die Veranstaltung zu einem familienfreundlichen Ereignis 
 macht. Für Paare\, die ihren großen Tag planen\, bietet lovebee eine ein
 zigartige Gelegenheit\, Inspirationen zu sammeln und Kontakte zu knüpfen.
 \nFlohmarkt Termine 2026\nSonntag\, 3. November 2024 von 11:00 bis 17:00 U
 hr\nVeranstalter\nVeranstaltungsservice Kurzmann und Spengler GbR\nSchille
 rstr. 30\n75382 Althengstett\n\n070518099019\nhoney@lovebee.de\nwww.lovebe
 e.de
ATTACH;FMTTYPE=image/jpeg:https://www.flohmarkt-termine.org/fotos/Hochzeit
 sflohmarkt.jpg
CATEGORIES:Hochzeitsflohmarkt
LOCATION:Calw Stammheim\, Jahnstraße 36 \, Calw Stammheim\, Baden-Württem
 berg\, 75365 \, Calw\, Deutschland
X-APPLE-STRUCTURED-LOCATION;VALUE=URI;X-ADDRESS=Jahnstraße 36 \, Calw Stam
 mheim\, Baden-Württemberg\, 75365 \, Calw\, Deutschland;X-APPLE-RADIUS=10
 0;X-TITLE=Calw Stammheim:geo:0,0
END:VEVENT
BEGIN:VTIMEZONE
TZID:Europe/Berlin
X-LIC-LOCATION:Europe/Berlin
BEGIN:DAYLIGHT
DTSTART:20240331T030000
TZOFFSETFROM:+0100
TZOFFSETTO:+0200
TZNAME:CEST
END:DAYLIGHT
END:VTIMEZONE
END:VCALENDAR