BEGIN:VCALENDAR
VERSION:2.0
PRODID:-//wp-events-plugin.com//7.2.3.1//EN
TZID:Europe/Berlin
X-WR-TIMEZONE:Europe/Berlin
BEGIN:VEVENT
UID:71975@flohmarkt-termine.org
DTSTART;TZID=Europe/Berlin:20240309T100000
DTEND;TZID=Europe/Berlin:20240309T130000
DTSTAMP:20240305T091804Z
URL:https://www.flohmarkt-termine.org/events/sortierter-kinderkleidermarkt
 -im-paul-gerhard-kinderhaus-in-in-norderstedt-mitte/
SUMMARY:Sortierter Kinderkleidermarkt im Paul-Gerhard-Kinderhaus in Norders
 tedt Mitte
DESCRIPTION:Der sortierte Kinderkleidermarkt im Paul-Gerhard-Kinderhaus in 
 Norderstedt Mitte findet am Samstag von 10:00 bis 13:00 Uhr statt.\n\n[cap
 tion id="attachment_209995" align="alignnone" width="840"] Sortierter Kind
 erkleidermarkt im Paul-Gerhard-Kinderhaus in Norderstedt Mitte[/caption]\n
 Weitere Flohmarkt Termine in Norderstedt und Umgebung\nFlohmärkte in Nord
 erstedt\n\nInformationen zu dem sortierten Kinderkleidermarkt im Paul-Gerh
 ard-Kinderhaus in Norderstedt Mitte\nDer sortierte Kinderkleidermarkt im P
 aul-Gerhard-Kinderhaus in Norderstedt Mitte findet am Samstag von 10:00 bi
 s 13:00 Uhr statt.\n\nAm Samstag\, den 9. März 2024\, öffnet das Paul-Ge
 rhardt-Kinderhaus in Norderstedt Mitte seine Türen für einen besonderen 
 Anlass. Zwischen 10:00 und 13:00 Uhr findet im Friedrichsgaber Weg 319 ein
  sortierter Kinderkleidermarkt statt. Besucher haben die Möglichkeit\, au
 s einem breiten Sortiment an Baby-\, Kinder- und Jugendmode sowie Umstands
 kleidung für die kommenden wärmeren Monate zu wählen. Alle Artikel sind
  sorgfältig ausgewählt und in einem Zustand von gut bis sehr gut erhalte
 n.\n\nDie Besonderheit dieses Marktes liegt in der übersichtlichen Präse
 ntation der Kleidungsstücke. Von Größe 44 bis 176 ist alles vorsortiert
  und nach Geschlechtern getrennt\, um den Einkauf so angenehm wie möglich
  zu gestalten. Neben Bekleidung werden auch Spielsachen\, Kleinkinderfahrz
 euge und Babyausstattung zum Verkauf angeboten. Damit richtet sich das Ang
 ebot nicht nur an Familien mit Kindern\, sondern auch an werdende Eltern. 
 Diese erhalten sogar die Möglichkeit\, bereits eine halbe Stunde früher\
 , um 9:30 Uhr\, den Markt zu betreten.\n\nFür das leibliche Wohl ist eben
 so gesorgt: Besucher können sich auf selbstgebackene Snacks und erfrische
 nde Getränke freuen. Wer Interesse hat\, selbst als Verkäufer teilzunehm
 en\, kann sich per E-Mail an kinderkleidermarkt@t-online.de wenden. Das Or
 ga-Team des Kleidermarkts im Paul-Gerhardt-Kinderhaus freut sich auf einen
  erfolgreichen Tag und zahlreiche Besucher.\nFlohmarkt Termine 2026\nSamst
 ag\, 9. März 2024 von 10:00 bis 13:00 Uhr\nVeranstalter\nOrga-Team Kleide
 rmarkt Paul-Gerhard-Kinderhaus\nPaul-Gerhard-Kinderhaus\nFriedrichsgaber W
 eg 319\n22846 Norderstedt\n\nkinderkleidermarkt@t-online.de
ATTACH;FMTTYPE=image/jpeg:https://www.flohmarkt-termine.org/fotos/Kindersa
 chenflohmarkt-1.jpg
CATEGORIES:Basar,Familienflohmarkt,Familientrödelmarkt,Flohmarkt,Kinderba
 sar ,Kinderbekleidungsbasar,Kinderflohmarkt,Kinderkleidermarkt,Kindersach
 enbasar,Kindersachenflohmarkt,Kindertrödel,Spielwarenflohmarkt,Spielzeugb
 asar
LOCATION:Paul-Gerhard-Kinderhaus in Norderstedt\, Friedrichsgaber Weg 319 \
 , Norderstedt \, Schleswig-Holstein\, 22846 \, Segeberg\, Deutschland
X-APPLE-STRUCTURED-LOCATION;VALUE=URI;X-ADDRESS=Friedrichsgaber Weg 319 \, 
 Norderstedt \, Schleswig-Holstein\, 22846 \, Segeberg\, Deutschland;X-APPL
 E-RADIUS=100;X-TITLE=Paul-Gerhard-Kinderhaus in Norderstedt:geo:0,0
END:VEVENT
BEGIN:VTIMEZONE
TZID:Europe/Berlin
X-LIC-LOCATION:Europe/Berlin
BEGIN:STANDARD
DTSTART:20231029T020000
TZOFFSETFROM:+0200
TZOFFSETTO:+0100
TZNAME:CET
END:STANDARD
END:VTIMEZONE
END:VCALENDAR