BEGIN:VCALENDAR
VERSION:2.0
PRODID:-//wp-events-plugin.com//7.2.3.1//EN
TZID:Europe/Berlin
X-WR-TIMEZONE:Europe/Berlin
BEGIN:VEVENT
UID:72294@flohmarkt-termine.org
DTSTART;TZID=Europe/Berlin:20240309T140000
DTEND;TZID=Europe/Berlin:20240309T153000
DTSTAMP:20240306T133604Z
URL:https://www.flohmarkt-termine.org/events/spielsachenbasar-in-der-kaesb
 erghalle-mundelsheim/
SUMMARY:Spielsachenbasar in der Käsberghalle Mundelsheim
DESCRIPTION:Der Spielsachenbasar in der Käsberghalle Mundelsheim findet a
 m Samstag von 14:00 bis 15:30 Uhr statt.\n\n\n[caption id="attachment_2032
 55" align="alignnone" width="840"] Spielsachenbasar in der Käsberghalle M
 undelsheim[/caption]\nWeitere Flohmarkt Termine in Mundelsheim und Umgebun
 g\nFlohmarkt in Mundelsheim\n\nInformationen zu dem Spielsachenbasar in de
 r Käsberghalle Mundelsheim\nDer Spielsachenbasar in der Käsberghalle Mu
 ndelsheim findet am Samstag von 14:00 bis 15:30 Uhr statt.\n\nAm Samstag\,
  den 9. März 2024\, findet in der Käsberghalle Mundelsheim ein einzigart
 iges Ereignis statt: der Spielsachenbasar. Von 14:00 bis 15:30 Uhr haben B
 esucher die Gelegenheit\, eine Vielzahl von Spielwaren und mehr zu entdeck
 en. Zum Verkauf stehen verschiedene Medien wie Musik- und Hörspiel-CDs\, 
 DVDs\, Computerspiele\, sowie Fahrzeuge inklusive Zubehör wie Laufräder\
 , Fahrräder\, Roller und Bobbycars. Auch für Sport- und Outdoor-Begeiste
 rte bietet der Basar eine Auswahl an Inlinern\, Trampolinen\, Schaukelsitz
 en und Kinderzelten. Darüber hinaus finden sich Puzzle und Gesellschaftss
 piele\, Kinderwagen\, Buggys und Laufställe unter den angebotenen Artikel
 n.\n\nNeben dem Kauf von Spielsachen können Besucher ab 13:30 Uhr Kaffee 
 und Kuchen genießen. Dies bietet eine hervorragende Gelegenheit\, sich mi
 t anderen Eltern auszutauschen und vielleicht neue Bekanntschaften zu mach
 en. Die Veranstaltung ist eine Initiative der Eltern des Kindergarten Damm
 weg\, die sich dafür einsetzen\, Familien ein vielfältiges Angebot an qu
 alitativen Spielwaren zu präsentieren.\n\nInteressierte Verkäufer könne
 n sich für den Basar unter www.spielsachenbasar-mundelsheim.de oder www.e
 asybasar.de anmelden. Bei Rückfragen steht das Organisationsteam per E-Ma
 il unter mail@spielsachenbasar-mundelsheim.de zur Verfügung. Dieser Spiel
 sachenbasar in Mundelsheim verspricht nicht nur ein Paradies für junge En
 tdecker zu sein\, sondern auch eine Plattform für Eltern\, um hochwertige
  Spielwaren für ihre Kinder zu finden und gleichzeitig die lokale Gemeins
 chaft zu unterstützen.\nFlohmarkt Termine 2026\nSamstag\, 9. März 2024 v
 on 14:00 bis 15:30 Uhr\nVeranstalter\nKindergarten Dammweg\nKäsberghalle 
 Mundelsheim\nKarl-Epple-Straße 13\n74395 Mundelsheim\n\nmail@spielsachenb
 asar-mundelsheim.de\nwww.spielsachenbasar-mundelsheim.de\nwww.easybasar.de
ATTACH;FMTTYPE=image/jpeg:https://www.flohmarkt-termine.org/fotos/Flohmark
 t-00686.jpg
CATEGORIES:Flohmarkt,Kinderbasar ,Kindersachenbasar,Kindersachenflohmarkt
 ,Spielwarenflohmarkt,Spielzeugbasar
LOCATION:Käsberghalle in Mundelsheim\, Karl-Epple-Straße 13 \, Mundelshei
 m \, Baden-Württemberg\, 74395 \, Ludwigsburg\, Deutschland
X-APPLE-STRUCTURED-LOCATION;VALUE=URI;X-ADDRESS=Karl-Epple-Straße 13 \, Mu
 ndelsheim \, Baden-Württemberg\, 74395 \, Ludwigsburg\, Deutschland;X-APP
 LE-RADIUS=100;X-TITLE=Käsberghalle in Mundelsheim:geo:0,0
END:VEVENT
BEGIN:VTIMEZONE
TZID:Europe/Berlin
X-LIC-LOCATION:Europe/Berlin
BEGIN:STANDARD
DTSTART:20231029T020000
TZOFFSETFROM:+0200
TZOFFSETTO:+0100
TZNAME:CET
END:STANDARD
END:VTIMEZONE
END:VCALENDAR