BEGIN:VCALENDAR
VERSION:2.0
PRODID:-//wp-events-plugin.com//7.2.3.1//EN
TZID:Europe/Berlin
X-WR-TIMEZONE:Europe/Berlin
BEGIN:VEVENT
UID:62762@flohmarkt-termine.org
DTSTART;TZID=Europe/Berlin:20230319T100000
DTEND;TZID=Europe/Berlin:20230319T150000
DTSTAMP:20230314T124740Z
URL:https://www.flohmarkt-termine.org/events/stadtteilflohmarkt-rund-um-di
 e-merianschule-in-wiesloch/
SUMMARY:Stadtteilflohmarkt rund um die Merianschule in Wiesloch
DESCRIPTION:Der Flohmarkt rund um die Merianschule in Wiesloch findet am S
 onntag von 10:00 bis 15:00 Uhr statt.\n\n[caption id="attachment_192079" a
 lign="alignnone" width="810"] Flohmarkt rund um die Merianschule in Wieslo
 ch[/caption]\nWeitere Flohmarkt Termine in Wiesloch und der Umgebung\nFloh
 märkte in Wiesloch\nInformationen zu dem Flohmarkt rund um die Merianschu
 le in Wiesloch\nDer Flohmarkt rund um die Merianschule in Wiesloch findet
  am Sonntag von 10:00 bis 15:00 Uhr statt.\n\nErster Wohngebietsflohmart a
 uf dem Schulhoh der Merianschule und drum herum.\n\nIn Wiesloch gibt es re
 gelmäßig einen Stadtteilflohmarkt rund um die Merianschule\, der viele B
 esucher aus der Region anzieht. Hier haben Bewohner des Stadtteils die Mö
 glichkeit\, ihre alten Schätze und Raritäten zu verkaufen und sich gleic
 hzeitig mit ihren Nachbarn zu vernetzen. Der Stadtteilflohmarkt rund um di
 e Merianschule ist ein Highlight für Flohmarktfans.\n\nDer Stadtteilflohm
 arkt in Wiesloch bietet eine tolle Gelegenheit\, um auf Schnäppchenjagd z
 u gehen und sich mit anderen Flohmarktfans auszutauschen. Hier finden Besu
 cher eine große Auswahl an Produkten\, darunter Antiquitäten\, Kleidung\
 , Schmuck und Haushaltswaren. Auch für das leibliche Wohl ist gesorgt: An
  vielen Ständen werden leckere Snacks und Getränke angeboten.\n\nDer Flo
 hmarkt rund um die Merianschule ist eine tolle Gelegenheit\, um in entspan
 nter Atmosphäre nette Menschen kennenzulernen und nach tollen Schnäppche
 n zu suchen. Die Veranstaltung ist für die ganze Familie geeignet und bie
 tet viele tolle Flohmarktstände zu entdecken. Wer das nächste Mal in der
  Region ist\, sollte unbedingt einen Besuch des Stadtteilflohmarkts in Wie
 sloch einplanen.\nFlohmarkt Termine 2023\nSonntag\, 19. März 2023 von 10:
 00 bis 15:00 Uhr\nVeranstalter\nSilke Zirker\nfamily.zirker@gmx.de
ATTACH;FMTTYPE=image/jpeg:https://www.flohmarkt-termine.org/fotos/Flohmark
 t-46.png
CATEGORIES:Familienflohmarkt,Flohmarkt,Stadtteilflohmarkt
LOCATION:Merianschule in Wiesloch\, Johann Philipp Bronner Str. \, Wiesloch
 \, Baden-Württemberg\, 69168\, Rhein-Neckar-Kreis\, Deutschland
X-APPLE-STRUCTURED-LOCATION;VALUE=URI;X-ADDRESS=Johann Philipp Bronner Str.
  \, Wiesloch\, Baden-Württemberg\, 69168\, Rhein-Neckar-Kreis\, Deutschla
 nd;X-APPLE-RADIUS=100;X-TITLE=Merianschule in Wiesloch:geo:0,0
END:VEVENT
BEGIN:VTIMEZONE
TZID:Europe/Berlin
X-LIC-LOCATION:Europe/Berlin
BEGIN:STANDARD
DTSTART:20221030T020000
TZOFFSETFROM:+0200
TZOFFSETTO:+0100
TZNAME:CET
END:STANDARD
END:VTIMEZONE
END:VCALENDAR