BEGIN:VCALENDAR
VERSION:2.0
PRODID:-//wp-events-plugin.com//7.2.3.1//EN
TZID:Europe/Berlin
X-WR-TIMEZONE:Europe/Berlin
BEGIN:VEVENT
UID:63583@flohmarkt-termine.org
DTSTART;TZID=Europe/Berlin:20230520T100000
DTEND;TZID=Europe/Berlin:20230520T160000
DTSTAMP:20230523T091659Z
URL:https://www.flohmarkt-termine.org/events/strassenflohmarkt-am-pfingstb
 erg-in-flieth-stegelitz-und-stegelitz/
SUMMARY:Straßenflohmarkt am Pfingstberg in Flieth-Stegelitz und Stegelitz
DESCRIPTION:Der Straßenflohmarkt am Pfingstberg in Flieth-Stegelitz und S
 tegelitz findet am Samstag von 10:00 bis 16:00 Uhr statt.\n\n[caption id="
 attachment_195327" align="alignnone" width="810"] Straßenflohmarkt am Pfi
 ngstberg in Flieth-Stegelitz und Stegelitz[/caption]\nWeitere Flohmarkt Te
 rmine in Flieth-Stegelitz und der Umgebung\nFlohmärkte in Flieth-Stegelit
 z\nInformationen zu dem Straßenflohmarkt am Pfingstberg in Flieth-Stegeli
 tz und Stegelitz\nDer Straßenflohmarkt am Pfingstberg in Flieth-Stegelit
 z und Stegelitz findet am Samstag von 10:00 bis 16:00 Uhr statt.\n\nEntlan
 g der Dorfstraße "Pfingstberg" stellen alle Anwohner ihre Flohmarkt-Gegen
 stände auf Tischen an die Straße\, die Straße ist nicht gesperrt. Es be
 ginnt um 10h. Ballons kennzeichnen die Verkaufsstände.\nFlohmarkt Termine
  2023\nSamstag\, 20. Mai 2023 von 10:00 bis 16:00 Uhr\nVeranstalter\n
ATTACH;FMTTYPE=image/jpeg:https://www.flohmarkt-termine.org/fotos/Flohmark
 t-0009.jpg
CATEGORIES:Flohmarkt,Stadtteilflohmarkt,Straßenflohmarkt
LOCATION:Pfingstberg Flieth-Stegelitz\, Pfingstberg Flieth-Stegelitz\,  Fli
 eth-Stegelitz\, Brandenburg\, 17268\, Uckermark \, Deutschland
X-APPLE-STRUCTURED-LOCATION;VALUE=URI;X-ADDRESS=Pfingstberg Flieth-Stegelit
 z\,  Flieth-Stegelitz\, Brandenburg\, 17268\, Uckermark \, Deutschland;X-A
 PPLE-RADIUS=100;X-TITLE=Pfingstberg Flieth-Stegelitz:geo:0,0
END:VEVENT
BEGIN:VTIMEZONE
TZID:Europe/Berlin
X-LIC-LOCATION:Europe/Berlin
BEGIN:DAYLIGHT
DTSTART:20230326T030000
TZOFFSETFROM:+0100
TZOFFSETTO:+0200
TZNAME:CEST
END:DAYLIGHT
END:VTIMEZONE
END:VCALENDAR