BEGIN:VCALENDAR
VERSION:2.0
PRODID:-//wp-events-plugin.com//7.2.3.1//EN
TZID:Europe/Berlin
X-WR-TIMEZONE:Europe/Berlin
BEGIN:VEVENT
UID:58490@flohmarkt-termine.org
DTSTART;TZID=Europe/Berlin:20230114T080000
DTEND;TZID=Europe/Berlin:20230114T160000
DTSTAMP:20231017T065514Z
URL:https://www.flohmarkt-termine.org/events/teltower-antik-und-troedelmar
 kt-in-teltow-2023-01-14/
SUMMARY:Teltower Antik- und Trödelmarkt in Teltow
DESCRIPTION:Der Teltower Antik- und Trödelmarkt in Teltow findet jeden Mi
 ttwoch und Samstag von 8:00 bis 16:00 Uhr statt.\n\n[caption id="attachmen
 t_185745" align="alignnone" width="810"] Teltower Antik- und Trödelmarkt 
 in Teltow[/caption]\nWeitere Flohmarkt Termine in Teltow und der Umgebung\
 nFlohmärkte in Teltow\nInformationen zu dem Teltower Antik- und Trödelma
 rkt in Teltow\nDer Teltower Antik- und Trödelmarkt in Teltow findet jede
 n Mittwoch und Samstag von 8:00 bis 16:00 Uhr statt.\n\nAb 14 Januar 2023 
 \, jeden Mittwoch und Samstag öffnet auf einem mega großem Platz in 1451
 3 Teltow\, Holunderstr.10 eine Oase für Antik und Trödellibhaber seine P
 forten.\nFalls ihr interesse habt selbst mit eurem Imbiss / Food Truck / o
 der Trödelstand dabei zu sein oder ihr eine Privatperson seid \, die eine
 n eigenen Stand auf die Beine stellen möchte \,dann meldet euch finfach a
 n .\nStandplatz Gebühr\nJeder laufende Meter kostet 5\,00 €\n\n\n\n\nDe
 r Teltower Antik- und Trödelmarkt in Teltow ist ein beliebter Ort für Sc
 hnäppchenjäger und Liebhaber von antiken Schätzen. Jeden Mittwoch und S
 amstag von 8:00 bis 16:00 Uhr können Besucher auf dem großen Platz in Te
 ltow nach besonderen Stücken stöbern.\n\nAuf dem Markt findet man eine g
 roße Auswahl an antiken Möbeln\, Porzellan\, Schmuck\, Büchern und viel
 em mehr. Es gibt auch Händler\, die seltene und ungewöhnliche Gegenstän
 de anbieten. Der Markt ist bekannt für seine hohe Qualität der angeboten
 en Waren und die freundlichen Verkäufer\, die gerne Auskunft über die Ge
 schichte und Herkunft ihrer Waren geben.\n\nEin Besuch auf dem Teltower An
 tik- und Trödelmarkt ist auch eine tolle Gelegenheit\, um das Zentrum von
  Teltow zu besuchen. Es gibt viele gemütliche Cafés und Restaurants in d
 er Umgebung\, in denen man nach einer erfolgreichen Shoppingtour entspanne
 n und die gefundenen Schätze bewundern kann.\n\nZusammenfassend\, Teltowe
 r Antik- und Trödelmarkt ist die Top Adresse für alle\, die nach antiken
  und besonderen Gegenständen suchen\, in einer historischen Umgebung und 
 unter freundlichen Verkäufern. Ein Besuch lohnt sich!\n\n\n\n\nFlohmarkt 
 Termine 2023\njeden Mittwoch und Samstag von 8:00 bis 16:00 Uhr\nVeranstal
 ter\nTeam vom Teltowerflohmarkt\nHeinrich Secemsky\nrmgfirma@gmail.com
ATTACH;FMTTYPE=image/jpeg:https://www.flohmarkt-termine.org/fotos/Flohmark
 t-00682.jpg
CATEGORIES:Antikmarkt,Flohmarkt,Trödelmarkt
LOCATION:Teltow\, Holunderstr. 10\, Teltow\, Brandenburg\, 14513\, Potsdam-
 Mittelmark\, Deutschland
X-APPLE-STRUCTURED-LOCATION;VALUE=URI;X-ADDRESS=Holunderstr. 10\, Teltow\, 
 Brandenburg\, 14513\, Potsdam-Mittelmark\, Deutschland;X-APPLE-RADIUS=100;
 X-TITLE=Teltow:geo:0,0
END:VEVENT
BEGIN:VTIMEZONE
TZID:Europe/Berlin
X-LIC-LOCATION:Europe/Berlin
BEGIN:STANDARD
DTSTART:20221030T020000
TZOFFSETFROM:+0200
TZOFFSETTO:+0100
TZNAME:CET
END:STANDARD
END:VTIMEZONE
END:VCALENDAR