BEGIN:VCALENDAR
VERSION:2.0
PRODID:-//wp-events-plugin.com//7.2.3.1//EN
TZID:Europe/Berlin
X-WR-TIMEZONE:Europe/Berlin
BEGIN:VEVENT
UID:55909@flohmarkt-termine.org
DTSTART;TZID=Europe/Berlin:20260809T160000
DTEND;TZID=Europe/Berlin:20260809T230000
DTSTAMP:20220414T091448Z
URL:https://www.flohmarkt-termine.org/events/traditions-nachtflohmarkt-in-
 der-innenstadt-pfaffenhofen-an-der-ilm-2026-08-09/
SUMMARY:Traditions-Nachtflohmarkt in der Innenstadt-Pfaffenhofen an der Ilm
DESCRIPTION:Der Traditions-Nachtflohmarkt in der Innenstadt-Pfaffenhofen an
  der Ilm findet jährlich am zweiten Sonntag im August von 16:00 bis 23:00
  Uhr statt.\n\n[caption id="attachment_177016" align="alignnone" width="81
 0"] Traditions-Nachtflohmarkt in der Innenstadt-Pfaffenhofen an der Ilm[/c
 aption]\nWeitere Flohmarkt Termine in Pfaffenhofen an der Ilm und der Umge
 bung\nFlohmärkte in Pfaffenhofen an der Ilm\nInformationen zu dem Traditi
 ons-Nachtflohmarkt in der Innenstadt-Pfaffenhofen an der Ilm\nDer Traditio
 ns-Nachtflohmarkt in der Innenstadt-Pfaffenhofen an der Ilm findet jährli
 ch am zweiten Sonntag im August von 16:00 bis 23:00 Uhr statt.\n\nVorab\, 
 ist bei diesem Stadt-Nachtflohmarkt Standpräsentation ein Muss\, um die A
 ufmerksamkeit der Flohmarktbesucher auf sich zu ziehen\, damit man auch gu
 te Umsätze generieren kann.\n\nDer große Stadt-Nachtflohmarkt am Hauptpl
 atz und in den Nebenstrassen (Ingolstädter Str. u. Löwenstraße) in der 
 Stadt Pfaffenhofen a. d. Ilm findet traditionell\, jährlich am zweiten So
 nntag im August / Sonntag\, der 14.08.2022 statt.\n\nDas Angebot ist reich
 haltig von Spielzeug bis zu Antiquitäten\, für jeden ist etwas dabei\, a
 uch im Verkauf von privat an privat kann dabei das eine oder andere Schnä
 ppchen gemacht werden. Der Eintritt für Besucher ist frei und das Parken 
 ist auf dem Volksfestplatz kostenlos.\n\nDer Stadt-Nachtflohmarkt beginnt 
 offiziell um 16 Uhr und endet um 23 Uhr. Einlass bzw. Anfahrt zum Standpla
 tz zum ausladen ist ab 12.00 Uhr Mittag erlaubt\, Standaufbau ist erst ab 
 14.00 Uhr möglich. Wir bitten auf diesem Weg alle Teilnehmer unsere Teiln
 ahmeordnung zu beachten\, diese sorgt für eine reibungslose Veranstaltung
 sdurchführung und ist notwendig für den gesamten Arbeitsablauf der Veran
 staltung.\n\nStandplatz: Es gibt keine Standplatz Selbstbedienung\, alle S
 tandplätze sind Genehmigungspflichtig bzw. müssen vom Veranstalter oder 
 seiner Gehilfen genehmigt werden. Für die Aussteller die nicht reserviert
  haben\, findet die Standplatzvergabe von 12.00 Uhr bis 14.00 Uhr statt\, 
 einfach kommen und Sie bekommen von uns einen Standplatz zugewiesen.\n\nSt
 andgebühren:\n- Hauptplatz (Rathausplatz) der lfm. 12\,-€\, reserviert 
 für Antiquitäten- Händler\n- Hauptplatz (Kirchenplatz) der lfm. 12\,-
 €\, reserviert für Trödler\n- Nebenstraßen (Ingolstädter Str. und L
 öwenstraße) der lfm 7\,-€ für Flohmarktler\n- Nebenstraße (Scheyerer
  Str.) für den Kunsthandwerkermarkt kostet der lfd. Meter 10\,-€\n\nTei
 lnahmebedingungen für Aussteller:\nZugelassen sind ausschließlich Antiqu
 itäten Händler und private Anbieter. Gastronomie-Stände mit Getränke u
 nd Lebensmitteln sind nur mit einer schriftlichen Anmeldung möglich.\n\nZ
 usätzliches Programm und Aufwertung des Nachtflohmarktes:\nStraßenkünst
 ler und Alleinunterhalter sehen wir als zusätzliches Programm und Aufwert
 ung des Nachtflohmarktes und sind bei der Teilnahme willkommen\, die Küns
 tler bekommen Standplatz frei und eine Brotzeit dazu\, vorab senden Sie un
 s bitte eine schriftliche Anfrage.\n\nAn der Scheyerer Straße findet dies
 es Jahr wieder ein Kunsthandwerkermarkt statt\, Die Aussteller sind alles 
 Könner ihres Faches\, professionell\, kreativ und engagiert arbeitende K
 ünstler. Das Verkaufsausstellung- Angebot bietet eine große Auswahl an G
 eschenkideen und Sortimente wie Holzschnitzereien\, Schmuck\, Glaskunst\, 
 es gibt Produkte für das Wohlbefinden\, Natur-Kosmetik und Dekoartikel f
 ür Heim und Garten.\n\nWerbung aller Art auf der Veranstaltungsfläche \,
  Flyer- Verteilung\, Plakatanschläge usw.. ist untersagt\, diese verursac
 ht Müll und Arbeit.\n\nEine Rückgabe des Standtickets ist nicht möglich
 . Waren aller Art dürfen nicht an die Stadtmauern angelehnt werden oder a
 n Bäumen oder Fenster aufgehängt werden.\n\nDas Auto am Stand ist nicht 
 erlaubt\, Sie können bis zum Standplatz hinfahren\, ausladen und das Auto
  weg fahren\, das Parken auf der Veranstaltungsfläche ist verboten\, anso
 nsten wird das Auto abgeschleppt. Nutzen Sie bitte die angrenzenden kosten
 losen Parkflächen auf dem Volksfestplatz und Parkhaus. Den Anweisungen un
 serer Ordner ist Folge zu leisten.\n\nStromanschluss ist vor Ort möglich.
  Bitte dran denken\, eine alte Autobatterie kann genügend Strom liefern u
 m Ihren Stand zu beleuchten\, andere Alternative wären\, Kerzen\, Petrole
 um- Lampen\, sehr gut geeignet sind LED- Akku- Lampen.\n\nWir bitten alle 
 Nachtflohmarkt Teilnehmer bis zum Nachtflohmarkt-Schluss zu bleiben\, Stan
 dabbau ist erst ab 23.00 Uhr möglich\, dafür erheben wir eine Kaution in
  Höhe von 5\,-€ und diese wird erst erstattet nach Veranstaltungsschlus
 s. Ihr Standplatz muss bis spätestens 1.00 Uhr in der Früh geräumt sein
 \, Müll unbedingt mitnehmen.\n\nDie Stadt Pfaffenhofen bietet viel mehr\,
  schattige Biergärten\, traditionsreiche Kaffeehäuser\, trendige Bars un
 d gemütliche Gasthäuser laden Genießer in der Stadt Pfaffenhofen-Ilm zu
 m Gustieren und Schlemmen ein. Die Bandbreite des Gastronomie-Angebots der
  Stadt ist riesengroß: hier kommen Feinschmecker\, Naschkatzen und Nachts
 chwärmer gleichermaßen auf ihre Kosten.\n\nFür die Teilnehmer gilt auss
 chließlich unsere AGB und Marktordnung unter der Website http://www.ec-mg
 .de (https://www.ec-mg.de/pdf/agb/18_-_AGB_fuer_Flohmarkt_im_Freigelaende-
 FF.pdf) zu entnehmen. Info erhalten Sie unter der: Mail: info@ec-mg.de\, T
 el: 0163-183 56 56.\n\nWir wünschen allen Teilnehmern gutes gelingen.\nIr
 rtümer und Änderungen vorbehalten!\nFlohmarkt Termine 2022\nSonntag\, 14
 . August 2022 von 16:00 bis 23:00 Uhr\nVeranstalter\nEvents &amp\; Caterin
 g Events &amp\; Catering\n0163 1835656\ninfo@ec-mg.de
ATTACH;FMTTYPE=image/jpeg:https://www.flohmarkt-termine.org/fotos/Flohmark
 t-19.jpg
CATEGORIES:Flohmarkt,Nachtflohmarkt
LOCATION:In der Innenstadt von Pfaffenhofen an der Ilm\, Scheyerer Straße 
 5\, Pfaffenhofen an der Ilm\, Bayern\, 85276\, Deutschland
X-APPLE-STRUCTURED-LOCATION;VALUE=URI;X-ADDRESS=Scheyerer Straße 5\, Pfaff
 enhofen an der Ilm\, Bayern\, 85276\, Deutschland;X-APPLE-RADIUS=100;X-TIT
 LE=In der Innenstadt von Pfaffenhofen an der Ilm:geo:0,0
END:VEVENT
BEGIN:VTIMEZONE
TZID:Europe/Berlin
X-LIC-LOCATION:Europe/Berlin
BEGIN:DAYLIGHT
DTSTART:20260329T030000
TZOFFSETFROM:+0100
TZOFFSETTO:+0200
TZNAME:CEST
END:DAYLIGHT
END:VTIMEZONE
END:VCALENDAR