BEGIN:VCALENDAR
VERSION:2.0
PRODID:-//wp-events-plugin.com//7.2.3.1//EN
TZID:Europe/Berlin
X-WR-TIMEZONE:Europe/Berlin
BEGIN:VEVENT
UID:44535@flohmarkt-termine.org
DTSTART;TZID=Europe/Berlin:20260712T110000
DTEND;TZID=Europe/Berlin:20260712T180000
DTSTAMP:20210609T084627Z
URL:https://www.flohmarkt-termine.org/events/troedelmarkt-am-walder-marktp
 latz-in-wald-ortsteil-wald-in-solingen-2026-07-12/
SUMMARY:Trödelmarkt am Walder Marktplatz in Wald (Ortsteil Wald) in Soling
 en
DESCRIPTION:Der Trödelmarkt am Walder Marktplatz in Wald (Ortsteil Wald) i
 n Solingen findet am Sonntag von 11:00 bis 18:00 Uhr statt.\n\n[caption id
 ="attachment_142483" align="alignnone" width="810"] Trödelmarkt am Walder
  Marktplatz in Wald (Ortsteil Wald) in Solingen[/caption]\nWeitere Trödel
 märkte in Solingen und Umgebung\nFlohmarkt Termine Solingen\nInformatione
 n zum Trödelmarkt am Walder Marktplatz in Wald in Solingen\nDer Trödelma
 rkt in Solingen-Wald am Marktplatz findet mehrmals im Jahr am Sonntag von 
 11:00 bis 18:00 Uhr statt (Am Volkstrauertag von 13:00 bis 18:00 Uhr). Auf
  dem Markt werden von Trödlern überwiegend Gebrauchtwaren angeboten. Ein
  Besucherparkplatz ist vorhanden.\n\nAnschrift:\nWalder Marktplatz\, Hinde
 nburgplatz\, 42719 Solingen\nInformationen für Verkäufer\nAngebot für T
 rödler: 5 Meter Trödel nur 40 €\n\nStandmieten\nDie Grundgebühr betr
 ägt einmalig pro Stand 5\,00 Euro plus\nTrödel kostet pro laufenden Mete
 r 10\,00 Euro\nNeuware und Infostände kosten pro laufenden Meter 16\,00 E
 uro\nTextil / Lederwaren / Werkzeug kosten pro laufenden Meter 18\,00 Euro
 \nEckplatzzuschlag (einmalig) 15\,00 Euro\nDie Reinigungskaution in Höhe 
 von 5\,00 Euro wird vor Ort kassiert\n\nAb einer Standgröße von 4 laufen
 den Metern\, bei Kombi 5 laufende Meter\, kann ein PKW generell am Stand v
 erbleiben.\n\nBis Freitag 12:00 Uhr vor der jeweiligen Veranstaltung könn
 en Sie online reservieren\, oder per Überweisung bis jeweils 3 Tage vor d
 er Veranstaltung. Darüber hinaus ist der Veranstalter am Vortag um 17:00 
 Uhr vor Ort. Sonntag morgens werden noch verfügbare Plätze ab 7:00 Uhr v
 ergeben. Gebuchte und bezahlte Plätze werden bis 8:30 Uhr reserviert und 
 frei gehalten.\n\nEine Überdachung ist nicht vorhanden.\nAnfahrt\nA46 Aus
 fahrt Haan / Solingen\nVeranstalter\nMarco + Svenja Rieder\nRieder Märkte
 \nKlosterstr. 57\n41849 Wassenberg\n\nTelefon: 02432 89 28 988\nTelefax: 0
 2432 89 28 987\nE-Mail: info@rieder-maerkte.de\nwww.rieder-maerkte.de
ATTACH;FMTTYPE=image/jpeg:https://www.flohmarkt-termine.org/fotos/Flohmark
 t-Braunschweig.jpg
CATEGORIES:Flohmarkt,Trödelmarkt
LOCATION:Marktplatz Solingen-Wald\, Hindenburgplatz\, Solingen\, Nordrhein-
 Westfalen\, 42719\, Deutschland
X-APPLE-STRUCTURED-LOCATION;VALUE=URI;X-ADDRESS=Hindenburgplatz\, Solingen\
 , Nordrhein-Westfalen\, 42719\, Deutschland;X-APPLE-RADIUS=100;X-TITLE=Mar
 ktplatz Solingen-Wald:geo:0,0
END:VEVENT
BEGIN:VTIMEZONE
TZID:Europe/Berlin
X-LIC-LOCATION:Europe/Berlin
BEGIN:DAYLIGHT
DTSTART:20260329T030000
TZOFFSETFROM:+0100
TZOFFSETTO:+0200
TZNAME:CEST
END:DAYLIGHT
END:VTIMEZONE
END:VCALENDAR