BEGIN:VCALENDAR
VERSION:2.0
PRODID:-//wp-events-plugin.com//7.2.3.1//EN
TZID:Europe/Berlin
X-WR-TIMEZONE:Europe/Berlin
BEGIN:VEVENT
UID:61410@flohmarkt-termine.org
DTSTART;TZID=Europe/Berlin:20261212T080000
DTEND;TZID=Europe/Berlin:20261212T160000
DTSTAMP:20230205T210708Z
URL:https://www.flohmarkt-termine.org/events/troedelmarkt-in-bonn-an-der-e
 hemaligen-biskuithalle-2026-12-12/
SUMMARY:Trödelmarkt in Bonn an der ehemaligen Biskuithalle
DESCRIPTION:Der Trödelmarkt in Bonn an der ehemaligen Biskuithalle findet 
 jeden Samstag von 8:00 bis 14:00 Uhr statt.\n\n[caption id="attachment_918
 09" align="alignnone" width="810"] Trödelmarkt in Bonn an der ehemaligen 
 Biskuithalle[/caption]\nWeitere Flohmarkt Termine in Bonn und Umgebung\nFl
 ohmärkte in Bonn\nInformationen zu dem Trödelmarkt in Bonn an der ehemal
 igen Biskuithalle\nDer Trödelmarkt in Bonn an der ehemaligen Biskuithalle
  findet jeden Samstag von 8:00 bis 14:00 Uhr statt.\n\n\n\n\nDer Flohmarkt
  in Bonn ist ein beliebter Treffpunkt für alle\, die auf der Suche nach b
 esonderen Schnäppchen\, Vintage-Stücken und Kuriositäten sind. Die ehem
 alige Biskuithalle bietet auf ihren großen Flächen ausreichend Platz fü
 r zahlreiche Stände und Händler\, die hier ihre Waren anbieten.\n\nOb an
 tike Möbelstücke\, alte Bücher\, Schmuck oder Kunstwerke – auf dem Tr
 ödelmarkt in Bonn ist für jeden Geschmack etwas dabei. Die Vielfalt der 
 angebotenen Waren macht den Besuch zu einem besonderen Erlebnis und lädt 
 zum Stöbern und Entdecken ein.\n\nEin Highlight des Trödelmarkts ist die
  leckere Gastronomie\, die für das leibliche Wohl der Besucher sorgt. Hie
 r kann man bei einer Tasse Kaffee und einem Stück Kuchen gemütlich entsp
 annen und den Trubel auf dem Markt beobachten.\n\nDer Trödelmarkt in Bonn
  findet jeden Samstag von 8:00 bis 14:00 Uhr (außer an Feiertagen) statt 
 und ist ein attraktives Ziel für alle\, die auf der Suche nach besonderen
  Stücken und einzigartigen Schätzen sind. Eine perfekte Gelegenheit\, um
  nach langer Suche endlich das passende Stück zu finden oder einfach nur 
 einen unterhaltsamen Tag zu verbringen.\n\nKurz gesagt\, der Trödelmarkt 
 in Bonn an der ehemaligen Biskuithalle ist ein Muss für alle\, die auf de
 r Suche nach besonderen Dingen sind und gleichzeitig einen unvergesslichen
  Tag erleben möchten. Besuchen Sie den Markt und lassen Sie sich von der 
 Vielfalt und dem Charme überraschen. Es sind alle typischen Waren erlaubt
 \, wie etwa Altwaren und Neuwaren von geringem Wert. Ein Auto am Stand ist
  möglich.\nPlatzvergabe ab 6:00 Uhr\nAufbau ab 7:00 Uhr\nVerkauf 8:00 bis
  14:00 Uhr\nDie Händler müssen den Platz bis 16:00 Uhr verlassen.\n\n\n\
 n\nDer Eintritt ist kostenlos.\nFlohmarkt Termine 2023\njeden Samstag von 
 8:00 bis 14:00 Uhr (außer an Feiertagen)\nVerkäufer:\nDer Aufbau kann ab
  06:00 Uhr erfolgen.\n\nVeranstalter\nMärkte WEST\nFa. Lampert Projekt Gm
 bH\nTrafoweg 4 (Tor 3)\n52152 Simmerath\n\nTelefon 02473 20596 50\nFax 024
 73 20596 51\nsimmerath@lampert-maerkte.de\ninfo@lampert-projekt.de\nwww.la
 mpert-maerkte.de
ATTACH;FMTTYPE=image/jpeg:https://www.flohmarkt-termine.org/fotos/Flohmark
 t-113.png
CATEGORIES:Flohmarkt,Trödelmarkt
LOCATION:Ehemalige Biskuithalle Bonn\, Siemensstraße \, Bonn\, Nordrhein-W
 estfalen\, 53121\, Deutschland
GEO:50.7359279;7.060557099999983
X-APPLE-STRUCTURED-LOCATION;VALUE=URI;X-ADDRESS=Siemensstraße \, Bonn\, No
 rdrhein-Westfalen\, 53121\, Deutschland;X-APPLE-RADIUS=100;X-TITLE=Ehemali
 ge Biskuithalle Bonn:geo:50.7359279,7.060557099999983
END:VEVENT
BEGIN:VTIMEZONE
TZID:Europe/Berlin
X-LIC-LOCATION:Europe/Berlin
BEGIN:STANDARD
DTSTART:20261025T020000
TZOFFSETFROM:+0200
TZOFFSETTO:+0100
TZNAME:CET
END:STANDARD
END:VTIMEZONE
END:VCALENDAR