BEGIN:VCALENDAR
VERSION:2.0
PRODID:-//wp-events-plugin.com//7.2.3.1//EN
TZID:Europe/Berlin
X-WR-TIMEZONE:Europe/Berlin
BEGIN:VEVENT
UID:72813@flohmarkt-termine.org
DTSTART;TZID=Europe/Berlin:20240309T080000
DTEND;TZID=Europe/Berlin:20240309T150000
DTSTAMP:20240308T154853Z
URL:https://www.flohmarkt-termine.org/events/troedelmarkt-ludwigsburg-am-r
 athausplatz-und-innenstadt-2024-03-09/
SUMMARY:Trödelmarkt am Rathausplatz und Innenstadt in Ludwigsburg
DESCRIPTION:Der Trödelmarkt Ludwigsburg am Rathausplatz und Innenstadt fin
 det am Samstag von 8:00 bis 15:00 Uhr statt.\n\n[caption id="attachment_16
 1224" align="alignnone" width="810"] Trödelmarkt Ludwigsburg am Rathauspl
 atz und Innenstadt[/caption]\nWeitere Trödelmarkt Termine in Ludwigsburg 
 und Umgebung\nFlohmärkte in Ludwigsburg\nInformationen zu dem Trödelmark
 t Ludwigsburg am Rathausplatz und Innenstadt\nDer Trödelmarkt Ludwigsburg
  am Rathausplatz und Innenstadt findet am Samstag von 8:00 bis 15:00 Uhr s
 tatt.\n\nDer Trödelmarkt am Rathausplatz und in der Innenstadt von Ludwig
 sburg erfreut sich mehrmals jährlich großer Beliebtheit. An ausgewählte
 n Samstagen öffnet dieser von 8:00 bis 15:00 Uhr seine Pforten für Besuc
 her und Aussteller. Eine Besonderheit dieses Marktes ist\, dass ausschlie
 ßlich Gebrauchtware angeboten werden darf\, was ihn zu einem echten Parad
 ies für Liebhaber von Second-Hand-Schätzen macht. Interessenten sollten 
 beachten\, dass der Aufbau der Stände bereits ab 6 Uhr morgens beginnen k
 ann\, jedoch eine vorherige Anmeldung unerlässlich ist. Für die Anmeldun
 g per E-Mail ist die Angabe der Telefonnummer ein Muss\, um eine reibungsl
 ose Kommunikation zu gewährleisten.\n\nDie Standgebühr beträgt 9 Euro p
 ro laufendem Meter für Gebrauchtware. Es ist zu beachten\, dass Fahrzeuge
  nicht direkt am Stand geparkt werden dürfen. Allerdings ist es gestattet
 \, zum Zweck des Be- und Entladens mit dem Auto an den Stand heranzufahren
 . Für die Nutzung von Kleiderständern wird eine Gebühr von 5 Euro erhob
 en. Sollte der Verkauf ausschließlich über Kleiderständer abgewickelt w
 erden\, werden die dafür benötigten Meter entsprechend berechnet.\n\nDer
  Veranstalter\, Agentur Döring\, weist darauf hin\, dass mit dem Aufbau d
 er Stände gewartet werden muss\, bis das Ordnungspersonal vor Ort ist\, u
 m einen geordneten Ablauf zu gewährleisten. Dies trägt zur Sicherheit un
 d Zufriedenheit aller Beteiligten bei. Der Trödelmarkt in Ludwigsburg ist
  somit nicht nur eine hervorragende Gelegenheit\, um besondere Gebrauchtwa
 ren zu entdecken\, sondern auch um in das lebendige Treiben der Innenstadt
  einzutauchen.\nTrödelmarkt Termine 2024\nSamstag\, 9. März 2024 von 8:0
 0 bis 15:00 Uhr\nSamstag\, 6. April 2024 von 8:00 bis 15:00 Uhr\nSamstag\,
  11. Mai 2024 von 8:00 bis 15:00 Uhr\nSamstag\, 15. Juni 2024 von 8:00 bis
  15:00 Uhr\nSamstag\, 20. Juli 2024 von 8:00 bis 15:00 Uhr\nSamstag\, 3. A
 ugust 2024 von 8:00 bis 15:00 Uhr\nVeranstalter\nVeranstaltungsagentur Arm
 in Döring\nZeppelinstrasse 10\n71711 Murr\n\n07144 209749\nagentur-doerin
 g@web.de\nwww.agentur-doering.com
ATTACH;FMTTYPE=image/jpeg:https://www.flohmarkt-termine.org/fotos/Flohmark
 t-356.jpg
CATEGORIES:Flohmarkt,Trödelmarkt
LOCATION:Rathausplatz und Innenstadt von Ludwigsburg\, Wilhelmstraße 11\, 
 Ludwigsburg\, Baden-Württemberg\, 71638\, Deutschland
X-APPLE-STRUCTURED-LOCATION;VALUE=URI;X-ADDRESS=Wilhelmstraße 11\, Ludwigs
 burg\, Baden-Württemberg\, 71638\, Deutschland;X-APPLE-RADIUS=100;X-TITLE
 =Rathausplatz und Innenstadt von Ludwigsburg:geo:0,0
END:VEVENT
BEGIN:VTIMEZONE
TZID:Europe/Berlin
X-LIC-LOCATION:Europe/Berlin
BEGIN:STANDARD
DTSTART:20231029T020000
TZOFFSETFROM:+0200
TZOFFSETTO:+0100
TZNAME:CET
END:STANDARD
END:VTIMEZONE
END:VCALENDAR