BEGIN:VCALENDAR
VERSION:2.0
PRODID:-//wp-events-plugin.com//7.2.3.1//EN
TZID:Europe/Berlin
X-WR-TIMEZONE:Europe/Berlin
BEGIN:VEVENT
UID:68437@flohmarkt-termine.org
DTSTART;TZID=Europe/Berlin:20240210T120000
DTEND;TZID=Europe/Berlin:20240210T163000
DTSTAMP:20240206T144905Z
URL:https://www.flohmarkt-termine.org/events/vintage-und-secondhand-pop-up
 -shopping-event-im-tonfink-in-luebeck-2024-02-10/
SUMMARY:Vintage- und Secondhand Pop up Shopping Event im Tonfink in Lübeck
DESCRIPTION:Der Vintage- und Secondhand Pop up Shopping Event im Tonfink i
 n Lübeck findet am Samstag von 12:00 bis 16:30 Uhr statt.\n\n[caption id=
 "attachment_202948" align="alignnone" width="840"] Vintage- und Secondhand
  Pop up Shopping Event im Tonfink in Lübeck[/caption]\nWeitere Flohmarkt 
 Termine in Lübeck und der Umgebung\nFlohmärkte in Lübeck\nInformationen
  zu dem Vintage- und Secondhand Pop up Shopping Event im Tonfink in Lübec
 k\nDer Vintage- und Secondhand Pop up Shopping Event im Tonfink in Lübec
 k findet am Samstag von 12:00 bis 16:30 Uhr statt.\n\nWas erwartet Dich?\n
 \nEin Vintage/ Secondhand Shopping Event der Extraklasse!\n\nShoppen wie i
 m Store\, in Schleswig Holstein!\n\nWir kommen mit einer großen Auswahl a
 n Kleidung aus einem Mix aus Vintage\, popular Brands und aktuellen Trends
  sowie Basic Secondhand!\n\nCheck this out!\n\n 	Secondhandkleidung für F
 rauen/Männer\n 	Hochwertige Vintage-Kleidung bekannter Marken aus den 80e
 r-00er Jahren\n 	Von XXS bis große Größen\n 	Seltene &amp\; einzigartig
 e Accessoires wie Handtaschen\, Schals\, Gürtel usw.\n 	Preise nach Punkt
 system\n 	Designermarken\n 	aktuell Barzahlung/Paypal\n\nFlohmarkt Termine
  2026\nSamstag\, 10. Februar 2024 von 12:00 bis 16:30 Uhr\nSamstag\, 25. M
 ai 2024 von 12:00 bis 16:30 Uhr\nSamstag\, 13. Juli 2024 von 12:00 bis 16:
 30 Uhr\nSamstag\, 21. September 2024 von 12:00 bis 16:30 Uhr\nSamstag\, 12
 . Oktober 2024 von 12:00 bis 16:30 Uhr\nSamstag\, 7. Dezember 2024 von 12:
 00 bis 16:30 Uhr\nVeranstalter\nStelley/Stolzenberg GbR\nGlockengießerstr
  59\n23552 Lübeck\n\nVera Stolzenberg\ninfo@deernskram.com\n01575 8264316
 \nwww.deernskram.com
ATTACH;FMTTYPE=image/jpeg:https://www.flohmarkt-termine.org/fotos/Flohmark
 t-366.jpg
CATEGORIES:Fashion-Flohmarkt,Flohmarkt,Vintagemarkt
LOCATION:Tonfink in Lübeck\, Große Burgstraße 46 \, Lübeck \, Schleswig
 -Holstein\, 23552\, Lübeck \, Deutschland
X-APPLE-STRUCTURED-LOCATION;VALUE=URI;X-ADDRESS=Große Burgstraße 46 \, L
 übeck \, Schleswig-Holstein\, 23552\, Lübeck \, Deutschland;X-APPLE-RADI
 US=100;X-TITLE=Tonfink in Lübeck:geo:0,0
END:VEVENT
BEGIN:VTIMEZONE
TZID:Europe/Berlin
X-LIC-LOCATION:Europe/Berlin
BEGIN:STANDARD
DTSTART:20231029T020000
TZOFFSETFROM:+0200
TZOFFSETTO:+0100
TZNAME:CET
END:STANDARD
END:VTIMEZONE
END:VCALENDAR