BEGIN:VCALENDAR
VERSION:2.0
PRODID:-//wp-events-plugin.com//7.2.3.1//EN
TZID:Europe/Berlin
X-WR-TIMEZONE:Europe/Berlin
BEGIN:VEVENT
UID:62204@flohmarkt-termine.org
DTSTART;TZID=Europe/Berlin:20231013T120000
DTEND;TZID=Europe/Berlin:20231013T230000
DTSTAMP:20230221T190957Z
URL:https://www.flohmarkt-termine.org/events/weimarer-zwiebelmarkt-und-mit
 telaltermarkt-in-weimar-2023-10-13/
SUMMARY:Weimarer Zwiebelmarkt und Mittelaltermarkt in Weimar
DESCRIPTION:Der Weimarer Zwiebelmarkt und Mittelaltermarkt in Weimar finde
 t am Freitag von 12:00 bis 23:00 Uhr\, Samstag von 9:00 bis 23:00 Uhr und 
 Sonntag von 9:00 bis 19:00 Uhr statt.\n\n[caption id="attachment_191522" a
 lign="alignnone" width="810"] Weimarer Zwiebelmarkt und Mittelaltermarkt i
 n Weimar[/caption]\nWeitere Flohmarkt Termine in Weimar und der Umgebung\n
 Flohmärkte in Weimar\nInformationen zu dem Weimarer Zwiebelmarkt und Mitt
 elaltermarkt in Weimar\nDer Weimarer Zwiebelmarkt und Mittelaltermarkt in
  Weimar findet am Freitag von 12:00 bis 23:00 Uhr\, Samstag von 9:00 bis 2
 3:00 Uhr und Sonntag von 9:00 bis 19:00 Uhr statt.\n\nWeimar ist bekannt f
 ür seine historischen Märkte\, die jedes Jahr zahlreiche Besucher aus de
 r ganzen Region anziehen. Der Weimarer Zwiebelmarkt und Mittelaltermarkt s
 ind zwei der bekanntesten und beliebtesten Märkte in der Stadt.\n\nDer We
 imarer Zwiebelmarkt ist einer der ältesten Märkte in Deutschland und fin
 det jedes Jahr im Oktober statt. Der Markt bietet eine breite Palette an r
 egionalen Produkten wie Zwiebeln\, Käse\, Brot\, Fleisch und Wein. Besuch
 er können auch Kunsthandwerk und Souvenirs kaufen oder an verschiedenen A
 ktivitäten und Spielen teilnehmen. Der Zwiebelmarkt ist nicht nur ein kul
 inarisches Erlebnis\, sondern auch ein Fest für die Sinne.\n\nDer Mittela
 ltermarkt in Weimar ist ein weiterer beliebter Markt\, der jedes Jahr im O
 ktober stattfindet. Der Markt bietet ein authentisches mittelalterliches E
 rlebnis mit Handwerksvorführungen\, Musik\, Tanz\, Speisen und Getränken
 . Besucher können auch traditionelle Rüstungen\, Waffen und Kunsthandwer
 k kaufen oder an verschiedenen Aktivitäten wie Bogenschießen oder Schwer
 tkampf teilnehmen. Der Mittelaltermarkt in Weimar ist eine großartige Mö
 glichkeit\, in eine andere Zeit einzutauchen und eine Menge Spaß zu haben
 .\n\nBeide Märkte bieten eine Vielzahl von Attraktionen und Aktivitäten 
 für die ganze Familie. Besucher können auch die wunderschöne Stadt Weim
 ar erkunden und die historischen Sehenswürdigkeiten und Gebäude besichti
 gen. Die Märkte sind auch eine großartige Gelegenheit\, die lokale Kultu
 r und Traditionen kennenzulernen und mit den Einheimischen zu plaudern.\n\
 nDie Märkte bieten auch eine einzigartige Gelegenheit\, lokale Produkte u
 nd Kunsthandwerk zu entdecken. Viele der angebotenen Produkte sind handgem
 acht und stammen von lokalen Herstellern und Künstlern. Die Märkte biete
 n auch eine großartige Gelegenheit\, regionale Spezialitäten und traditi
 onelle Gerichte zu probieren.\n\nDer Weimarer Zwiebelmarkt und der Mittela
 ltermarkt in Weimar sind zwei Veranstaltungen\, die man nicht verpassen so
 llte. Die Märkte bieten eine einzigartige Gelegenheit lokale Produkte und
  Kunsthandwerk zu entdecken.\nFlohmarkt Termine 2023\nFreitag\, 13. Oktobe
 r 2023 von 12:00 bis 23:00 Uhr\nSamstag\, 14. Oktober 2023 von 9:00 bis 23
 :00 Uhr\nSonntag\, 15. Oktober 2023 von 9:00 bis 19:00 Uhr\nVeranstalter\n
 bibow communications gmbh\nNaundorfer Straße 9\n04860 Torgau\n03421-77 88
  48 0\n\npr@bc-gmbh.de\nmittelalter@bc-gmbh.de\nwww.bc-gmbh.de
ATTACH;FMTTYPE=image/jpeg:https://www.flohmarkt-termine.org/fotos/DSC_1914
 .jpg
CATEGORIES:Mittelaltermarkt
LOCATION:Markt Weimar\, Weimar\, Markt\, Thüringen\, 99423 \, Weimar\, Deu
 tschland
X-APPLE-STRUCTURED-LOCATION;VALUE=URI;X-ADDRESS=Weimar\, Markt\, Thüringen
 \, 99423 \, Weimar\, Deutschland;X-APPLE-RADIUS=100;X-TITLE=Markt Weimar:g
 eo:0,0
END:VEVENT
BEGIN:VTIMEZONE
TZID:Europe/Berlin
X-LIC-LOCATION:Europe/Berlin
BEGIN:DAYLIGHT
DTSTART:20230326T030000
TZOFFSETFROM:+0100
TZOFFSETTO:+0200
TZNAME:CEST
END:DAYLIGHT
END:VTIMEZONE
END:VCALENDAR